BEGIN:VCALENDAR
VERSION:2.0
PRODID:-//FSEA - ECPv6.15.20//NONSGML v1.0//EN
CALSCALE:GREGORIAN
METHOD:PUBLISH
X-WR-CALNAME:FSEA
X-ORIGINAL-URL:https://fsea.com
X-WR-CALDESC:Events for FSEA
REFRESH-INTERVAL;VALUE=DURATION:PT1H
X-Robots-Tag:noindex
X-PUBLISHED-TTL:PT1H
BEGIN:VTIMEZONE
TZID:America/Chicago
BEGIN:DAYLIGHT
TZOFFSETFROM:-0600
TZOFFSETTO:-0500
TZNAME:CDT
DTSTART:20250309T080000
END:DAYLIGHT
BEGIN:STANDARD
TZOFFSETFROM:-0500
TZOFFSETTO:-0600
TZNAME:CST
DTSTART:20251102T070000
END:STANDARD
BEGIN:DAYLIGHT
TZOFFSETFROM:-0600
TZOFFSETTO:-0500
TZNAME:CDT
DTSTART:20260308T080000
END:DAYLIGHT
BEGIN:STANDARD
TZOFFSETFROM:-0500
TZOFFSETTO:-0600
TZNAME:CST
DTSTART:20261101T070000
END:STANDARD
BEGIN:DAYLIGHT
TZOFFSETFROM:-0600
TZOFFSETTO:-0500
TZNAME:CDT
DTSTART:20270314T080000
END:DAYLIGHT
BEGIN:STANDARD
TZOFFSETFROM:-0500
TZOFFSETTO:-0600
TZNAME:CST
DTSTART:20271107T070000
END:STANDARD
END:VTIMEZONE
BEGIN:VEVENT
DTSTART;VALUE=DATE:20260617
DTEND;VALUE=DATE:20260620
DTSTAMP:20260421T034945
CREATED:20250909T193535Z
LAST-MODIFIED:20260225T224543Z
UID:13204-1781654400-1781913599@fsea.com
SUMMARY:Print Embellishment Conference
DESCRIPTION:FSEA Releases Repulpability Study in Response to Sustainability Concerns				\n				\n					\n		\n					\n		\n				\n						\n					\n			\n						\n				\n																														\n				\n					\n		\n				\n			\n						\n				\n									The Foil & Specialty Effects Association (FSEA) has released a new study on the repulpability of paper decorated with transfer foils\, produced in conjunction with the Georgia Tech Renewable Bioproducts Institute. The association has been proactive in working to separate the decorated products that FSEA members provide (produced via hot foil\, cold foil or digital foil transfer processes\, as well as transfer metallization of board or paper)\, from the use of foil laminated paper or board\, which includes the plastic film and can be more difficult to recycle or repulp. The study demonstrates that transfer foil decorated paper and board do not create problems in the recyclability/repulpability of paper and/or board in a common repulping process. 								\n				\n				\n				\n									\n					\n						\n						\n							\n									Sign up to receive a copy
URL:https://fsea.com/event/print-embellishment-conference/
LOCATION:Sheraton Music City Nashville
CATEGORIES:Conference
ATTACH;FMTTYPE=image/webp:https://fsea.com/wp-content/uploads/FSEA_FX_logo_red_2.webp
END:VEVENT
END:VCALENDAR